BEGIN:VCALENDAR
VERSION:2.0
PRODID:-//CMRPC - ECPv6.15.20//NONSGML v1.0//EN
CALSCALE:GREGORIAN
METHOD:PUBLISH
X-ORIGINAL-URL:https://cmrpc.org
X-WR-CALDESC:Events for CMRPC
REFRESH-INTERVAL;VALUE=DURATION:PT1H
X-Robots-Tag:noindex
X-PUBLISHED-TTL:PT1H
BEGIN:VTIMEZONE
TZID:America/New_York
BEGIN:DAYLIGHT
TZOFFSETFROM:-0500
TZOFFSETTO:-0400
TZNAME:EDT
DTSTART:20230312T070000
END:DAYLIGHT
BEGIN:STANDARD
TZOFFSETFROM:-0400
TZOFFSETTO:-0500
TZNAME:EST
DTSTART:20231105T060000
END:STANDARD
BEGIN:DAYLIGHT
TZOFFSETFROM:-0500
TZOFFSETTO:-0400
TZNAME:EDT
DTSTART:20240310T070000
END:DAYLIGHT
BEGIN:STANDARD
TZOFFSETFROM:-0400
TZOFFSETTO:-0500
TZNAME:EST
DTSTART:20241103T060000
END:STANDARD
BEGIN:DAYLIGHT
TZOFFSETFROM:-0500
TZOFFSETTO:-0400
TZNAME:EDT
DTSTART:20250309T070000
END:DAYLIGHT
BEGIN:STANDARD
TZOFFSETFROM:-0400
TZOFFSETTO:-0500
TZNAME:EST
DTSTART:20251102T060000
END:STANDARD
END:VTIMEZONE
BEGIN:VEVENT
DTSTART;TZID=America/New_York:20240320T160000
DTEND;TZID=America/New_York:20240320T173000
DTSTAMP:20260419T082036
CREATED:20240306T160950Z
LAST-MODIFIED:20240319T144557Z
UID:3538-1710950400-1710955800@cmrpc.org
SUMMARY:CMMPO Committee
DESCRIPTION:CMMPO Committee Agenda 2024 03 20 \nCMMPO Committee Minutes 2024 02 21 \nHow to Access CMMPO Meeting Through Zoom\n \n\nThe March 20\, 2024 CMMPO Meeting will be a virtual webinar meeting\, using the CMRPC Zoom service. Please see the information below on how to connect: \nhttps://us02web.zoom.us/j/87321525865?pwd=dHllaDN4Z3FlUG92T1hVU09rTjFWQT09 \nWebinar ID: 873 2152 5865 \nPasscode: 771277 \nDial by your location \n+1 646 558 8656 US (New York)\n+1 301 715 8592 US\n+1 312 626 6799 US\n\nDocuments that will be presented and discussed at this meeting include: \nProposed Changes to the FFY 2024 to FFY 2028 TIP Highway Listing Amendment #4 \nProposed Changes to the FFY 2024 to FFY 2028 TIP Highway & Transit Listings Amendment #5 \nTIP Performance Management Screening for FFY 2029 Projects \nTIP FFY 2025 to FFY 2029 Project Scenarios \nDraft FFY 2025 to FFY 2029 TIP Statewide Highway List \nDraft FFY 2025 to FFY 2029 TIP Transit List \nFFY2025 UPWP Budget & Recommended Tasks \nActive Transportation Overview \n 
URL:https://cmrpc.org/event/cmmpo-committee-2/
CATEGORIES:Calendar of Meetings,Central Massachusetts Metropolitan Planning Organization (CMMPO) Committee
END:VEVENT
END:VCALENDAR