BEGIN:VCALENDAR
VERSION:2.0
PRODID:-//CMRPC - ECPv6.15.20//NONSGML v1.0//EN
CALSCALE:GREGORIAN
METHOD:PUBLISH
X-ORIGINAL-URL:https://cmrpc.org
X-WR-CALDESC:Events for CMRPC
REFRESH-INTERVAL;VALUE=DURATION:PT1H
X-Robots-Tag:noindex
X-PUBLISHED-TTL:PT1H
BEGIN:VTIMEZONE
TZID:America/New_York
BEGIN:DAYLIGHT
TZOFFSETFROM:-0500
TZOFFSETTO:-0400
TZNAME:EDT
DTSTART:20250309T070000
END:DAYLIGHT
BEGIN:STANDARD
TZOFFSETFROM:-0400
TZOFFSETTO:-0500
TZNAME:EST
DTSTART:20251102T060000
END:STANDARD
BEGIN:DAYLIGHT
TZOFFSETFROM:-0500
TZOFFSETTO:-0400
TZNAME:EDT
DTSTART:20260308T070000
END:DAYLIGHT
BEGIN:STANDARD
TZOFFSETFROM:-0400
TZOFFSETTO:-0500
TZNAME:EST
DTSTART:20261101T060000
END:STANDARD
BEGIN:DAYLIGHT
TZOFFSETFROM:-0500
TZOFFSETTO:-0400
TZNAME:EDT
DTSTART:20270314T070000
END:DAYLIGHT
BEGIN:STANDARD
TZOFFSETFROM:-0400
TZOFFSETTO:-0500
TZNAME:EST
DTSTART:20271107T060000
END:STANDARD
END:VTIMEZONE
BEGIN:VEVENT
DTSTART;TZID=America/New_York:20260304T103000
DTEND;TZID=America/New_York:20260304T123000
DTSTAMP:20260422T031351
CREATED:20260121T165958Z
LAST-MODIFIED:20260218T134849Z
UID:6406-1772620200-1772627400@cmrpc.org
SUMMARY:Vernon Connected History Event
DESCRIPTION:Come learn how I-290 reshaped a Worcester neighborhood—and explore what’s possible moving forward. Join us for a short presentation by local historians\, free coffee\, and a conversation where we want to hear from you\, the community. \nLocation:  Worcester Senior Center | 128 Providence St.
URL:https://cmrpc.org/event/vernon-connected-history-event/
CATEGORIES:Calendar of Events,Transportation
END:VEVENT
END:VCALENDAR