BEGIN:VCALENDAR
VERSION:2.0
PRODID:-//CMRPC - ECPv6.15.20//NONSGML v1.0//EN
CALSCALE:GREGORIAN
METHOD:PUBLISH
X-ORIGINAL-URL:https://cmrpc.org
X-WR-CALDESC:Events for CMRPC
REFRESH-INTERVAL;VALUE=DURATION:PT1H
X-Robots-Tag:noindex
X-PUBLISHED-TTL:PT1H
BEGIN:VTIMEZONE
TZID:America/New_York
BEGIN:DAYLIGHT
TZOFFSETFROM:-0500
TZOFFSETTO:-0400
TZNAME:EDT
DTSTART:20250309T070000
END:DAYLIGHT
BEGIN:STANDARD
TZOFFSETFROM:-0400
TZOFFSETTO:-0500
TZNAME:EST
DTSTART:20251102T060000
END:STANDARD
BEGIN:DAYLIGHT
TZOFFSETFROM:-0500
TZOFFSETTO:-0400
TZNAME:EDT
DTSTART:20260308T070000
END:DAYLIGHT
BEGIN:STANDARD
TZOFFSETFROM:-0400
TZOFFSETTO:-0500
TZNAME:EST
DTSTART:20261101T060000
END:STANDARD
BEGIN:DAYLIGHT
TZOFFSETFROM:-0500
TZOFFSETTO:-0400
TZNAME:EDT
DTSTART:20270314T070000
END:DAYLIGHT
BEGIN:STANDARD
TZOFFSETFROM:-0400
TZOFFSETTO:-0500
TZNAME:EST
DTSTART:20271107T060000
END:STANDARD
END:VTIMEZONE
BEGIN:VEVENT
DTSTART;TZID=America/New_York:20260402T100000
DTEND;TZID=America/New_York:20260402T120000
DTSTAMP:20260424T063340
CREATED:20260318T121739Z
LAST-MODIFIED:20260402T123050Z
UID:6632-1775124000-1775131200@cmrpc.org
SUMMARY:2026 Environmental Consultation
DESCRIPTION:The 2026 Environmental Consultation will discuss a range of environmental mitigation activities and potential areas to carry out these activities\, including activities that may have the greatest potential to restore and maintain the environmental function affected by the Long Range Transportation Plan\, 2050 Connections. See materials for the 2026 Environmental Consultation below. This meeting will be virtual and Zoom Webinar details are included in the below agenda. \n\n\n\n2026 Environmental Consultation Agenda\n2026 Environmental Consultation Presentation\n\n\n\n 
URL:https://cmrpc.org/event/2026-environmental-consultation/
LOCATION:Virtual Meeting
CATEGORIES:Calendar of Events,Transportation
END:VEVENT
END:VCALENDAR