BEGIN:VCALENDAR
VERSION:2.0
PRODID:-//CMRPC - ECPv6.15.20//NONSGML v1.0//EN
CALSCALE:GREGORIAN
METHOD:PUBLISH
X-ORIGINAL-URL:https://cmrpc.org
X-WR-CALDESC:Events for CMRPC
REFRESH-INTERVAL;VALUE=DURATION:PT1H
X-Robots-Tag:noindex
X-PUBLISHED-TTL:PT1H
BEGIN:VTIMEZONE
TZID:America/New_York
BEGIN:DAYLIGHT
TZOFFSETFROM:-0500
TZOFFSETTO:-0400
TZNAME:EDT
DTSTART:20250309T070000
END:DAYLIGHT
BEGIN:STANDARD
TZOFFSETFROM:-0400
TZOFFSETTO:-0500
TZNAME:EST
DTSTART:20251102T060000
END:STANDARD
BEGIN:DAYLIGHT
TZOFFSETFROM:-0500
TZOFFSETTO:-0400
TZNAME:EDT
DTSTART:20260308T070000
END:DAYLIGHT
BEGIN:STANDARD
TZOFFSETFROM:-0400
TZOFFSETTO:-0500
TZNAME:EST
DTSTART:20261101T060000
END:STANDARD
BEGIN:DAYLIGHT
TZOFFSETFROM:-0500
TZOFFSETTO:-0400
TZNAME:EDT
DTSTART:20270314T070000
END:DAYLIGHT
BEGIN:STANDARD
TZOFFSETFROM:-0400
TZOFFSETTO:-0500
TZNAME:EST
DTSTART:20271107T060000
END:STANDARD
END:VTIMEZONE
BEGIN:VEVENT
DTSTART;TZID=America/New_York:20260611T170000
DTEND;TZID=America/New_York:20260611T200000
DTSTAMP:20260422T092457
CREATED:20260218T135647Z
LAST-MODIFIED:20260218T135647Z
UID:6481-1781197200-1781208000@cmrpc.org
SUMMARY:CMRPC Annual Meeting & Awards Dinner
DESCRIPTION:Central Massachusetts Regional Planning Commission\nAnnual Meeting & Awards Dinner – Agenda\nThursday\, June 11\, 2026 at 5:00 p.m.\nPleasant Valley Country Club\, 95 Armsby Road\, Sutton\, MA 01590 \nAgenda will be posted at least 48 business hours in advance of the meeting. \nYou are invited to CMRPC’s Annual Meeting & Awards Dinner to celebrate the recent accomplishments of the Commission! Join us to officially recognize and honor individuals\, organizations\, and municipalities for their dedication and contributions to the region. \n5:00 p.m. Reception & Registration Begins \n6:00 p.m. Buffet Dinner is Served \n7:00 p.m. CMRPC Business Meeting \n7:30 p.m. Presentation of Awards \nThis event is free and open to the public. Guests are welcome. Registration is required by June 1st.
URL:https://cmrpc.org/event/cmrpc-annual-meeting-awards-dinner-2/
CATEGORIES:Annual Meeting,Calendar of Meetings
END:VEVENT
END:VCALENDAR