BEGIN:VCALENDAR
VERSION:2.0
PRODID:-//CMRPC - ECPv6.15.20//NONSGML v1.0//EN
CALSCALE:GREGORIAN
METHOD:PUBLISH
X-WR-CALNAME:CMRPC
X-ORIGINAL-URL:https://cmrpc.org
X-WR-CALDESC:Events for CMRPC
REFRESH-INTERVAL;VALUE=DURATION:PT1H
X-Robots-Tag:noindex
X-PUBLISHED-TTL:PT1H
BEGIN:VTIMEZONE
TZID:America/New_York
BEGIN:DAYLIGHT
TZOFFSETFROM:-0500
TZOFFSETTO:-0400
TZNAME:EDT
DTSTART:20230312T070000
END:DAYLIGHT
BEGIN:STANDARD
TZOFFSETFROM:-0400
TZOFFSETTO:-0500
TZNAME:EST
DTSTART:20231105T060000
END:STANDARD
BEGIN:DAYLIGHT
TZOFFSETFROM:-0500
TZOFFSETTO:-0400
TZNAME:EDT
DTSTART:20240310T070000
END:DAYLIGHT
BEGIN:STANDARD
TZOFFSETFROM:-0400
TZOFFSETTO:-0500
TZNAME:EST
DTSTART:20241103T060000
END:STANDARD
BEGIN:DAYLIGHT
TZOFFSETFROM:-0500
TZOFFSETTO:-0400
TZNAME:EDT
DTSTART:20250309T070000
END:DAYLIGHT
BEGIN:STANDARD
TZOFFSETFROM:-0400
TZOFFSETTO:-0500
TZNAME:EST
DTSTART:20251102T060000
END:STANDARD
BEGIN:DAYLIGHT
TZOFFSETFROM:-0500
TZOFFSETTO:-0400
TZNAME:EDT
DTSTART:20260308T070000
END:DAYLIGHT
BEGIN:STANDARD
TZOFFSETFROM:-0400
TZOFFSETTO:-0500
TZNAME:EST
DTSTART:20261101T060000
END:STANDARD
BEGIN:DAYLIGHT
TZOFFSETFROM:-0500
TZOFFSETTO:-0400
TZNAME:EDT
DTSTART:20270314T070000
END:DAYLIGHT
BEGIN:STANDARD
TZOFFSETFROM:-0400
TZOFFSETTO:-0500
TZNAME:EST
DTSTART:20271107T060000
END:STANDARD
END:VTIMEZONE
BEGIN:VEVENT
DTSTART;TZID=America/New_York:20260327T080000
DTEND;TZID=America/New_York:20260327T220000
DTSTAMP:20260421T092140
CREATED:20260218T135934Z
LAST-MODIFIED:20260218T135934Z
UID:6482-1774598400-1774648800@cmrpc.org
SUMMARY:CMRPC Legislative Affairs Breakfast
DESCRIPTION:Central Massachusetts Regional Planning Commission\nLegislative Affairs Committee Agenda\nFriday\, March 27\, 2026\, at 8:00 a.m.\nBeechwood Hotel\, Worcester\, MA \nRegistration Link: https://lp.constantcontactpages.com/ev/reg/jnwmhu8 \n 
URL:https://cmrpc.org/event/cmrpc-legislative-affairs-breakfast/
CATEGORIES:Calendar of Events,Legislative Affairs Committee
END:VEVENT
BEGIN:VEVENT
DTSTART;TZID=America/New_York:20260310T100000
DTEND;TZID=America/New_York:20260310T110000
DTSTAMP:20260421T092140
CREATED:20260306T135712Z
LAST-MODIFIED:20260306T140008Z
UID:6551-1773136800-1773140400@cmrpc.org
SUMMARY:Legislative Affairs Committee
DESCRIPTION:Central Massachusetts Regional Planning Commission\nLegislative Affairs Committee Meeting Agenda\nTuesday\, March 10\, 2026  at 10:00 a.m.\nZoom Meeting \nAgenda with Zoom Login Information is Available Here: Legislative Affairs Committee Agenda 2026 03 10
URL:https://cmrpc.org/event/legislative-affairs-committee-12/
LOCATION:Virtual Meeting
CATEGORIES:Calendar of Meetings,Legislative Affairs Committee
ORGANIZER;CN="Sherrie Haber":MAILTO:shaber@cmrpc.org
END:VEVENT
BEGIN:VEVENT
DTSTART;TZID=America/New_York:20260224T090000
DTEND;TZID=America/New_York:20260224T100000
DTSTAMP:20260421T092140
CREATED:20260218T134705Z
LAST-MODIFIED:20260218T134739Z
UID:6479-1771923600-1771927200@cmrpc.org
SUMMARY:Legislative Affairs Committee
DESCRIPTION:Central Massachusetts Regional Planning Commission\nLegislative Affairs Committee Meeting Agenda\nTuesday\, February 24\, 2026  at 9:00 a.m.\nZoom Meeting \nAgenda with Zoom Login Information is Available Here: Legislative Affairs Committee Agenda 2026 02 24
URL:https://cmrpc.org/event/legislative-affairs-committee-11/
LOCATION:Virtual Meeting
CATEGORIES:Calendar of Meetings,Legislative Affairs Committee
ORGANIZER;CN="Sherrie Haber":MAILTO:shaber@cmrpc.org
END:VEVENT
BEGIN:VEVENT
DTSTART;TZID=America/New_York:20260205T090000
DTEND;TZID=America/New_York:20260205T100000
DTSTAMP:20260421T092140
CREATED:20260202T140320Z
LAST-MODIFIED:20260202T141037Z
UID:6433-1770282000-1770285600@cmrpc.org
SUMMARY:Legislative Affairs Committee
DESCRIPTION:Central Massachusetts Regional Planning Commission\nLegislative Affairs Committee Meeting Agenda\nThursday\, February 5\, 2026  at 9:00 a.m.\nZoom Meeting \nAgenda with Zoom Login Information is Available Here: Legislative Affairs Committee Agenda 2026 02 05
URL:https://cmrpc.org/event/legislative-affairs-committee-10/
LOCATION:Virtual Meeting
CATEGORIES:Calendar of Meetings,Legislative Affairs Committee
ORGANIZER;CN="Sherrie Haber":MAILTO:shaber@cmrpc.org
END:VEVENT
BEGIN:VEVENT
DTSTART;TZID=America/New_York:20251114T090000
DTEND;TZID=America/New_York:20251114T100000
DTSTAMP:20260421T092140
CREATED:20251110T150419Z
LAST-MODIFIED:20251110T150419Z
UID:6199-1763110800-1763114400@cmrpc.org
SUMMARY:Legislative Affairs Committee
DESCRIPTION:Central Massachusetts Regional Planning Commission\nLegislative Affairs Committee Meeting Agenda\nFriday\, November 14\, 2025  at 9:00 a.m.\nZoom Meeting \nAgenda with Zoom Login Information is Available Here: Legislative Affairs Committee Agenda 2025 11 14
URL:https://cmrpc.org/event/legislative-affairs-committee-9/
LOCATION:Virtual Meeting
CATEGORIES:Calendar of Meetings,Legislative Affairs Committee
ORGANIZER;CN="Sherrie Haber":MAILTO:shaber@cmrpc.org
END:VEVENT
BEGIN:VEVENT
DTSTART;TZID=America/New_York:20250909T090000
DTEND;TZID=America/New_York:20250909T100000
DTSTAMP:20260421T092140
CREATED:20250905T130612Z
LAST-MODIFIED:20250905T130908Z
UID:5963-1757408400-1757412000@cmrpc.org
SUMMARY:Legislative Affairs Committee
DESCRIPTION:Central Massachusetts Regional Planning Commission\nLegislative Affairs Committee Meeting Agenda\nTuesday\, September 9\, 2025  at 9:00 a.m.\nZoom Meeting \nAgenda with Zoom Login Information is Available Here: Legislative Affairs Committee Agenda 2025 09 09
URL:https://cmrpc.org/event/legislative-affairs-committee-7/
LOCATION:Virtual Meeting
CATEGORIES:Calendar of Meetings,Legislative Affairs Committee
END:VEVENT
BEGIN:VEVENT
DTSTART;TZID=America/New_York:20250708T090000
DTEND;TZID=America/New_York:20250708T100000
DTSTAMP:20260421T092140
CREATED:20250703T192710Z
LAST-MODIFIED:20250703T192957Z
UID:5820-1751965200-1751968800@cmrpc.org
SUMMARY:Legislative Affairs Committee
DESCRIPTION:Central Massachusetts Regional Planning Commission\nLegislative Affairs Committee Meeting Agenda\nTuesday\, July 8\, 2025  at 9:00 a.m.\nZoom Meeting \nAgenda with Zoom Login Information is Available Here: Legislative Affairs Committee Agenda 2025 07 08
URL:https://cmrpc.org/event/legislative-affairs-committee-6/
LOCATION:Virtual Meeting
CATEGORIES:Calendar of Meetings,Legislative Affairs Committee
END:VEVENT
BEGIN:VEVENT
DTSTART;TZID=America/New_York:20250513T090000
DTEND;TZID=America/New_York:20250513T120000
DTSTAMP:20260421T092140
CREATED:20250512T154358Z
LAST-MODIFIED:20250512T154413Z
UID:5650-1747126800-1747137600@cmrpc.org
SUMMARY:Legislative Affairs Committee
DESCRIPTION:Central Massachusetts Regional Planning Commission\nLegislative Affairs Committee Meeting Agenda\nTuesday\, May 13\, 2025  at 9:00 a.m.\nZoom Meeting \nAgenda with Zoom Login Information is Available Here: Legislative Affairs Committee Agenda 2025 05 13
URL:https://cmrpc.org/event/legislative-affairs-committee-5/
LOCATION:Virtual Meeting
CATEGORIES:Calendar of Meetings,Legislative Affairs Committee
END:VEVENT
BEGIN:VEVENT
DTSTART;TZID=America/New_York:20250414T110000
DTEND;TZID=America/New_York:20250414T120000
DTSTAMP:20260421T092140
CREATED:20250410T191628Z
LAST-MODIFIED:20250410T191628Z
UID:5566-1744628400-1744632000@cmrpc.org
SUMMARY:Legislative Affairs Committee
DESCRIPTION:Central Massachusetts Regional Planning Commission\nLegislative Affairs Committee Meeting Agenda\nMonday\, April 14\, 2025  at 11:00 a.m.\nZoom Meeting \nAgenda with Zoom Login Information is Available Here: Legislative Affairs Committee Agenda 2025 04 14
URL:https://cmrpc.org/event/legislative-affairs-committee-4/
LOCATION:Virtual Meeting
CATEGORIES:Calendar of Meetings,Legislative Affairs Committee
END:VEVENT
BEGIN:VEVENT
DTSTART;TZID=America/New_York:20250318T090000
DTEND;TZID=America/New_York:20250318T100000
DTSTAMP:20260421T092140
CREATED:20250315T183045Z
LAST-MODIFIED:20250315T183055Z
UID:5458-1742288400-1742292000@cmrpc.org
SUMMARY:Legislative Affairs Committee
DESCRIPTION:Central Massachusetts Regional Planning Commission\nLegislative Affairs Committee Meeting Agenda\nTuesday\, March 18\, 2025  at 9:00 a.m.\nZoom Meeting \nAgenda with Zoom Login Information is Available Here: Legislative Affairs Committee Agenda 2025 03 18
URL:https://cmrpc.org/event/legislative-affairs-committee-3/
LOCATION:Virtual Meeting
CATEGORIES:Calendar of Meetings,Legislative Affairs Committee
END:VEVENT
BEGIN:VEVENT
DTSTART;TZID=America/New_York:20250114T090000
DTEND;TZID=America/New_York:20250114T100000
DTSTAMP:20260421T092140
CREATED:20250108T195046Z
LAST-MODIFIED:20250108T195206Z
UID:5246-1736845200-1736848800@cmrpc.org
SUMMARY:Legislative Affairs Committee
DESCRIPTION:Central Massachusetts Regional Planning Commission\nLegislative Affairs Committee Meeting Agenda\nTuesday\, January 14\, 2025  at 9:00 a.m.\nZoom Meeting \nAgenda with Zoom Login Information is Available Here: Legislative Affairs Committee Agenda 2025 01 14
URL:https://cmrpc.org/event/legislative-affairs-committee-2/
LOCATION:Virtual Meeting
CATEGORIES:Calendar of Meetings,Legislative Affairs Committee
END:VEVENT
BEGIN:VEVENT
DTSTART;TZID=America/New_York:20240910T090000
DTEND;TZID=America/New_York:20240910T100000
DTSTAMP:20260421T092140
CREATED:20240904T184628Z
LAST-MODIFIED:20240904T185357Z
UID:4681-1725958800-1725962400@cmrpc.org
SUMMARY:Legislative Affairs Committee
DESCRIPTION:Central Massachusetts Regional Planning Commission\nLegislative Affairs Committee Meeting Agenda\nTuesday\, September 10\, 2024 at 9:00 a.m.\nZoom Meeting \nAgenda with Zoom Login Information is Available Here: Legislative Affairs Committee Agenda 2024 09 10
URL:https://cmrpc.org/event/legislative-affairs-committee/
LOCATION:Virtual Meeting
CATEGORIES:Calendar of Meetings,Legislative Affairs Committee
END:VEVENT
END:VCALENDAR