BEGIN:VCALENDAR
VERSION:2.0
PRODID:-//CMRPC - ECPv6.15.20//NONSGML v1.0//EN
CALSCALE:GREGORIAN
METHOD:PUBLISH
X-ORIGINAL-URL:https://cmrpc.org
X-WR-CALDESC:Events for CMRPC
REFRESH-INTERVAL;VALUE=DURATION:PT1H
X-Robots-Tag:noindex
X-PUBLISHED-TTL:PT1H
BEGIN:VTIMEZONE
TZID:America/New_York
BEGIN:DAYLIGHT
TZOFFSETFROM:-0500
TZOFFSETTO:-0400
TZNAME:EDT
DTSTART:20230312T070000
END:DAYLIGHT
BEGIN:STANDARD
TZOFFSETFROM:-0400
TZOFFSETTO:-0500
TZNAME:EST
DTSTART:20231105T060000
END:STANDARD
BEGIN:DAYLIGHT
TZOFFSETFROM:-0500
TZOFFSETTO:-0400
TZNAME:EDT
DTSTART:20240310T070000
END:DAYLIGHT
BEGIN:STANDARD
TZOFFSETFROM:-0400
TZOFFSETTO:-0500
TZNAME:EST
DTSTART:20241103T060000
END:STANDARD
BEGIN:DAYLIGHT
TZOFFSETFROM:-0500
TZOFFSETTO:-0400
TZNAME:EDT
DTSTART:20250309T070000
END:DAYLIGHT
BEGIN:STANDARD
TZOFFSETFROM:-0400
TZOFFSETTO:-0500
TZNAME:EST
DTSTART:20251102T060000
END:STANDARD
END:VTIMEZONE
BEGIN:VEVENT
DTSTART;TZID=America/New_York:20240502T150000
DTEND;TZID=America/New_York:20240502T163000
DTSTAMP:20260421T074439
CREATED:20240423T210021Z
LAST-MODIFIED:20240423T211826Z
UID:4018-1714662000-1714667400@cmrpc.org
SUMMARY:Southern Worcester County Economic Development Organization (SWC EDO)
DESCRIPTION:Southern Worcester County Economic Development Organization (SWC EDO)\nBoard of Directors Hybrid Executive Committee Meeting \nView the Agenda to access the meeting via the Zoom platform:Economic Development Organization Executive Committee Agenda 2024 05 02
URL:https://cmrpc.org/event/southern-worcester-county-economic-development-organization-swc-edo-2/
CATEGORIES:Calendar of Meetings,Southern Worcester County Economic Development Organization (SWC EDO)
END:VEVENT
BEGIN:VEVENT
DTSTART;TZID=America/New_York:20240507T170000
DTEND;TZID=America/New_York:20240507T173000
DTSTAMP:20260421T074439
CREATED:20240418T122054Z
LAST-MODIFIED:20240506T200327Z
UID:3980-1715101200-1715103000@cmrpc.org
SUMMARY:Draft 2025-2029 TIP & 2024-2028 TIP Amendment #7 Virtual Public Meeting
DESCRIPTION:Draft 2025 – 2029 TIP & 2024 – 2028 TIP Amendment #7 Agenda \nDraft 2025 – 2029 TIP & 2024 – 2028 TIP Amendment #7 Meeting Notice \n______________________________________ \nJoin Zoom Meeting \nhttps://us02web.zoom.us/j/84726896350?pwd=U3dxMFVoNHFSUnNzNzBTRktEMkpaUT09 \nMeeting ID: 847 2689 6350\nPasscode: 792928 \nDial by your location\n• +1 646 558 8656 US (New York)\n• +1 646 931 3860 US\n• +1 301 715 8592 US (Washington DC) \n______________________________________ \nAdditional Documents \nProposed Changes to the 2024 – 2028 TIP Highway List Amendment #7 \n  \nCMMPO Draft 2025 – 2029 TIP Transit Project Listing \nCMMPO Draft 2025 – 2029 TIP Highway Project ListingU
URL:https://cmrpc.org/event/draft-2025-2029-tip-2024-2028-tip-amendment-7-virtual-public-meeting/
CATEGORIES:Calendar of Meetings,Central Massachusetts Metropolitan Planning Organization (CMMPO) Committee
END:VEVENT
BEGIN:VEVENT
DTSTART;TZID=America/New_York:20240513T140000
DTEND;TZID=America/New_York:20240513T150000
DTSTAMP:20260421T074439
CREATED:20240419T132611Z
LAST-MODIFIED:20240419T132611Z
UID:3991-1715608800-1715612400@cmrpc.org
SUMMARY:Accessory Dwelling Unit (ADU) Bylaw Webinar Workshop
DESCRIPTION:In an effort to address the pressing need for affordable housing solutions\, we’re excited to announce an upcoming regional webinar focusing on Accessory Dwelling Units (ADUs). Organized as part of the CMRPC’s DLTA Affordable Housing Initiative\, this virtual webinar workshop will take place on May 13th at 2pm\, aiming to empower municipal officials and the wider public with technical assistance\, practical implementation strategies\, and bylaw review. \nRegister Here to Receive Access to the Webinar \nOur project emphasizes the importance of addressing the stigma surrounding affordable housing\, recognizing challenges such as lack of awareness and policy barriers. Through targeted technical assistance and documentation of lessons learned\, we aim to dispel misconceptions and engage the public in meaningful discussions. \nAdditionally\, following the webinar\, we will be hosting office hours to provide further support and guidance. \nCMRPC’s DLTA Affordable Housing Initiative aligns with our community’s goals and values\, addressing a critical need in the region. Our comprehensive approach reflects a commitment to creating positive\, lasting impacts on our communities. \nJoin us for this webinar\, which will serve as a platform for fostering support\, engaging stakeholders\, and driving tangible progress towards accessible and inclusive housing solutions.
URL:https://cmrpc.org/event/accessory-dwelling-unit-adu-bylaw-webinar-workshop-2/
LOCATION:Virtual Meeting
CATEGORIES:Calendar of Events,Regional Collaboration & Community Planning
END:VEVENT
BEGIN:VEVENT
DTSTART;TZID=America/New_York:20240515T160000
DTEND;TZID=America/New_York:20240515T173000
DTSTAMP:20260421T074439
CREATED:20240501T182324Z
LAST-MODIFIED:20240515T190732Z
UID:4065-1715788800-1715794200@cmrpc.org
SUMMARY:CMMPO Committee
DESCRIPTION:CMMPO Committee Agenda 2024 05 15 \nCMMPO Committee Minutes 2024 04 17 \nHow to Access CMMPO Meeting Through Zoom\n \n\nThe May 15\, 2024 CMMPO Meeting will be a virtual webinar meeting\, using the CMRPC Zoom service. Please see the information below on how to connect: \nhttps://us02web.zoom.us/j/87321525865?pwd=dHllaDN4Z3FlUG92T1hVU09rTjFWQT09 \nWebinar ID: 873 2152 5865 \nPasscode: 771277 \nDial by your location \n+1 646 558 8656 US (New York)\n+1 301 715 8592 US\n+1 312 626 6799 US\n\nDocuments that will be presented and discussed at this meeting include: \nProposed Changes to the 2024 – 2028 TIP Highway Listing Amendment #7 \nCMMPO Endorsed 2025 – 2029 TIP Highway Project Listing \nCMMPO Endorsed 2025 – 2029 TIP Transit Project Listing \nFFY2025 CMMPO Draft UPWP \nDraft FFY2025 UPWP Presentation \nDraft Coordinated Public Transit Human Service Transportation Plan \nDraft Coordinated Public Transit Human Services Transportation Plan Presentation \n 
URL:https://cmrpc.org/event/cmmpo-committee-4/
LOCATION:Virtual Meeting
CATEGORIES:Calendar of Meetings,Central Massachusetts Metropolitan Planning Organization (CMMPO) Committee
END:VEVENT
BEGIN:VEVENT
DTSTART;TZID=America/New_York:20240522T150000
DTEND;TZID=America/New_York:20240522T150000
DTSTAMP:20260421T074439
CREATED:20240513T130319Z
LAST-MODIFIED:20240522T132243Z
UID:4158-1716390000-1716390000@cmrpc.org
SUMMARY:CMMPO Advisory Committee
DESCRIPTION:Meeting of the Central Massachusetts Metropolitan Planning Organization Advisory Committee \nView the full agenda with Zoom information: \nCMMPO Advisory Committee Meeting Agenda 2024 05 22 \nCMMPO Advisory Committee Meeting Minutes 2024 04 24 DRAFT \nTIP Design Policy Highlights
URL:https://cmrpc.org/event/cmmpo-advisory-committee-4/
LOCATION:Virtual Meeting
CATEGORIES:Calendar of Meetings,Central Massachusetts Metropolitan Planning Organization (CMMPO) Advisory Committee
END:VEVENT
BEGIN:VEVENT
DTSTART;TZID=America/New_York:20240530T180000
DTEND;TZID=America/New_York:20240530T190000
DTSTAMP:20260421T074439
CREATED:20240502T164945Z
LAST-MODIFIED:20240524T113239Z
UID:4068-1717092000-1717095600@cmrpc.org
SUMMARY:CMRPC Transportation Planning Committee
DESCRIPTION:Transportation Planning Committee Agenda 2024 05 30\n\n\nTransportation Planning Committee Minutes 2024 04 25 \n\nThe May 30\, 2024 T-Committee meeting will be held hybrid/in-person using the CMRPC zoom meeting service. In-person location is at the MassDOT District #3 Office at 499 Plantation Parkway\, Worcester\, MA. Please see the information below on how to connect to Zoom. \nJoin Zoom Meeting \nhttps://us02web.zoom.us/j/82263081511?pwd=czBwR0dacTNQcER3MzQ0bWN1ckFPdz09\n\nMeeting ID: 822 6308 1511\nPassword: 326086\n\n\nDial by your location\n        +1 301 715 8592 US (Washington DC)\n        +1 312 626 6799 US (Chicago)\n        +1 646 558 8656 US (New York)\n\n\nDocuments that will be presented and discussed at this meeting include: \nDraft Coordinated Public Transit Human Service Transportation Plan \nDraft Coordinated Public Transit Human Services Transportation Plan Presentation \nFFY2025 CMMPO Draft UPWP \nDraft FFY2025 UPWP Presentation \nTIP Design Policy Highlights \n  \n 
URL:https://cmrpc.org/event/cmrpc-transportation-planning-committee-3/
CATEGORIES:Calendar of Meetings,Transportation Planning Committee (T-Committee)
END:VEVENT
BEGIN:VEVENT
DTSTART;TZID=America/New_York:20240530T190000
DTEND;TZID=America/New_York:20240530T203000
DTSTAMP:20260421T074439
CREATED:20240426T134036Z
LAST-MODIFIED:20240520T161017Z
UID:4045-1717095600-1717101000@cmrpc.org
SUMMARY:Executive Committee
DESCRIPTION:Central Massachusetts Regional Planning Commission\nExecutive Committee Hybrid/In-Person Meeting Agenda\nThursday\, May 30\, 2024\, 7:00 PM\n499 Plantation St\, Worcester\, MA 01605\nMassDOT District 3 Headquarters \nAgenda with Zoom Login Information is Now Available: CMRPC Executive Committee Agenda 2024 05 30
URL:https://cmrpc.org/event/executive-committee-4/
CATEGORIES:Calendar of Meetings,Executive Committee
END:VEVENT
END:VCALENDAR